BEGIN:VCALENDAR
VERSION:2.0
PRODID:-//ChamberMaster//Event Calendar 2.0//EN
METHOD:PUBLISH
X-PUBLISHED-TTL:P3D
REFRESH-INTERVAL:P3D
CALSCALE:GREGORIAN
BEGIN:VEVENT
DTSTART:20230507T003000Z
DTEND:20230507T020000Z
X-MICROSOFT-CDO-ALLDAYEVENT:FALSE
SUMMARY:An Evening with Kristin Chenowith presented by Angelina Arts Alliance
DESCRIPTION:Emmy and Tony Award -winning actress and singer Kristin Chenoweth brings her soaring vocals to Lufkin for an incredible evening of live music! Best known for originating the role of Glinda in the Broadway musical Wicked\, Chenoweth is a classically trained opera singer whose career spans film\, television\, voiceover\, and stage. She's portrayed notable roles in "Pushing Daisies" and Disney's "Descendants"\, and continues to perform to sold-out audiences across the world\, including performances at Carnegie Hall and Royal Albert Hall. For fans of musical theatre\, film and television\, this concert is NOT TO BE MISSED!
X-ALT-DESC;FMTTYPE=text/html:Emmy and Tony Award&reg\;-winning actress and singer Kristin Chenoweth brings her soaring vocals to Lufkin for an incredible evening of live music! Best known for originating the role of Glinda in the Broadway musical Wicked\, Chenoweth is a classically trained opera singer whose career spans film\, television\, voiceover\, and stage. She&rsquo\;s portrayed notable roles in &ldquo\;Pushing Daisies&rdquo\; and Disney&rsquo\;s &ldquo\;Descendants&rdquo\;\, and continues to perform to sold-out audiences across the world\, including performances at Carnegie Hall and Royal Albert Hall. For fans of musical theatre\, film and television\, this concert is NOT TO BE MISSED!
LOCATION:The Temple Theater
UID:e.1105.6673
SEQUENCE:3
DTSTAMP:20260426T020213Z
URL:https://business.polkchamber.com/events/details/an-evening-with-kristin-chenowith-presented-by-angelina-arts-alliance-05-06-2023-6673
END:VEVENT

END:VCALENDAR
