BEGIN:VCALENDAR
VERSION:2.0
PRODID:-//ChamberMaster//Event Calendar 2.0//EN
METHOD:PUBLISH
X-PUBLISHED-TTL:P3D
REFRESH-INTERVAL:P3D
CALSCALE:GREGORIAN
BEGIN:VEVENT
DTSTART:20230519T160000Z
DTEND:20230519T180000Z
X-MICROSOFT-CDO-ALLDAYEVENT:FALSE
SUMMARY:Annual Crawfish Boil
DESCRIPTION:Annual Crawfish Boil The Bradford at Brookside Live Music and Fresh Cooked Crawfish
X-ALT-DESC;FMTTYPE=text/html:Annual Crawfish Boil The Bradford at Brookside Live Music and Fresh Cooked Crawfish
LOCATION:301 W. Park Dr. Livingston\, TX
UID:e.1105.7238
SEQUENCE:3
DTSTAMP:20260426T015547Z
URL:https://business.polkchamber.com/events/details/annual-crawfish-boil-7238
END:VEVENT

END:VCALENDAR
