BEGIN:VCALENDAR
VERSION:2.0
PRODID:-//ChamberMaster//Event Calendar 2.0//EN
METHOD:PUBLISH
X-PUBLISHED-TTL:P3D
REFRESH-INTERVAL:P3D
CALSCALE:GREGORIAN
BEGIN:VEVENT
DTSTART:20170513T110000Z
DTEND:20170513T220000Z
X-MICROSOFT-CDO-ALLDAYEVENT:FALSE
SUMMARY:Bass and Bugs
DESCRIPTION:6th Annual Bass and Bugs Bass Tournament and Crawfish Boil fundraiser for Childrenz Haven\, Polk County Child Advocacy Center. Adult Bass Tournament Registration at 5am Prizes for the top 4 ($2000\, $1200\, $1000\, $800 Sponosred by Quality Marine) Free Kid's Tournament 7am-12pm 13 Prizes with Grand Prize Valued at $1346 (Sponsored by Acres RV & Outdoors) Crawfish and live music on the Patio 11am-5pm Additional information and registration online
X-ALT-DESC;FMTTYPE=text/html:6th Annual Bass and Bugs Bass Tournament and Crawfish Boil fundraiser for Childrenz Haven\, Polk County Child Advocacy Center. Adult Bass Tournament Registration at 5am Prizes for the top 4 ($2000\, $1200\, $1000\, $800 Sponosred by Quality Marine) Free Kid&#39\;s Tournament 7am-12pm 13 Prizes with Grand Prize Valued at $1346 (Sponsored by Acres RV &amp\; Outdoors) Crawfish and live music on the Patio 11am-5pm Additional information and registration online
LOCATION:Pontoon's / Waterfront Lodge & Marina 371 Navajo Trail\, Onalaska\, 77360
UID:e.1105.3603
SEQUENCE:3
DTSTAMP:20260421T103539Z
URL:https://business.polkchamber.com/events/details/bass-and-bugs-3603
END:VEVENT

END:VCALENDAR
