BEGIN:VCALENDAR
VERSION:2.0
PRODID:-//ChamberMaster//Event Calendar 2.0//EN
METHOD:PUBLISH
X-PUBLISHED-TTL:P3D
REFRESH-INTERVAL:P3D
CALSCALE:GREGORIAN
BEGIN:VEVENT
DTSTART:20230325T150000Z
DTEND:20230325T193000Z
X-MICROSOFT-CDO-ALLDAYEVENT:FALSE
SUMMARY:Blood Drive
DESCRIPTION:Pedigo Furniture\, Inc. will host a blood drive on Saturday March 25th\, from 10:00 a.m. to 2:30 p.m.\, at its location on 3785 U.S. Hwy 190 West in Livingston. Gulf Coast Regional Blood Center will be on site with their coach bus. All donors will receive a *FREE $10.00 eGiftCard*. Schedule your appointment today at www.giveblood.org.
X-ALT-DESC;FMTTYPE=text/html:Pedigo Furniture\, Inc. will host a blood drive on Saturday March 25th\, from 10:00 a.m. to 2:30 p.m.\, at its location on 3785 U.S. Hwy 190 West in Livingston. Gulf Coast Regional Blood Center will be on site with their coach bus. All donors will receive a *FREE $10.00 eGiftCard*. Schedule your appointment today at www.giveblood.org.
LOCATION:Pedigo Furniture\, Inc.
UID:e.1105.6751
SEQUENCE:3
DTSTAMP:20260426T042147Z
URL:https://business.polkchamber.com/events/details/blood-drive-03-25-2023-6751
END:VEVENT

END:VCALENDAR
