BEGIN:VCALENDAR
VERSION:2.0
PRODID:-//ChamberMaster//Event Calendar 2.0//EN
METHOD:PUBLISH
X-PUBLISHED-TTL:P3D
REFRESH-INTERVAL:P3D
CALSCALE:GREGORIAN
BEGIN:VEVENT
DTSTART:20211204T200000Z
DTEND:20211205T000000Z
X-MICROSOFT-CDO-ALLDAYEVENT:FALSE
SUMMARY:Christmas Coats and Shoe Giveaway s kids 3-16
DESCRIPTION:Pit Row PIt Stop and Dream Catchers Stables will be giving away free coats and shoes from 2 - 6 pm. Located at 402 1st Street Livingston\, Texas 77351 Free funnel cakes
X-ALT-DESC;FMTTYPE=text/html:Pit Row PIt Stop and Dream Catchers Stables will be giving away free coats and shoes from 2 - 6 pm. Located at 402 1st Street Livingston\, Texas 77351 Free funnel cakes
LOCATION:
UID:e.1105.6523
SEQUENCE:3
DTSTAMP:20260421T013246Z
URL:https://business.polkchamber.com/events/details/christmas-coats-and-shoe-giveaway-s-kids-3-16-6523
END:VEVENT

END:VCALENDAR
