BEGIN:VCALENDAR
VERSION:2.0
PRODID:-//ChamberMaster//Event Calendar 2.0//EN
METHOD:PUBLISH
X-PUBLISHED-TTL:P3D
REFRESH-INTERVAL:P3D
CALSCALE:GREGORIAN
BEGIN:VEVENT
DTSTART:20230521T190000Z
DTEND:20230521T201500Z
X-MICROSOFT-CDO-ALLDAYEVENT:FALSE
SUMMARY:Cirque Kalabante's Afrique en Cirque presented by Angelina Arts Alliance
DESCRIPTION:Be transported into a realm that combines traditional African arts with North American modern circus performance. Mesmerizing\, melodious\, and magical\, this high-energy production is sure to keep the whole family on the edge of their seats!
X-ALT-DESC;FMTTYPE=text/html:Be transported into a realm that combines traditional African arts with North American modern circus performance. Mesmerizing\, melodious\, and magical\, this high-energy production is sure to keep the whole family on the edge of their seats!
LOCATION:Temple Theater
UID:e.1105.6652
SEQUENCE:3
DTSTAMP:20260426T020221Z
URL:https://business.polkchamber.com/events/details/cirque-kalabante-s-afrique-en-cirque-presented-by-angelina-arts-alliance-6652
END:VEVENT

END:VCALENDAR
