BEGIN:VCALENDAR
VERSION:2.0
PRODID:-//ChamberMaster//Event Calendar 2.0//EN
METHOD:PUBLISH
X-PUBLISHED-TTL:P3D
REFRESH-INTERVAL:P3D
CALSCALE:GREGORIAN
BEGIN:VEVENT
DTSTART:20230519T160000Z
DTEND:20230519T200000Z
X-MICROSOFT-CDO-ALLDAYEVENT:FALSE
SUMMARY:DAY N NIGHT MEDICAL SUPPLY - 1st ANNUAL Safety Scavenger Hunt
DESCRIPTION:We would like to invite all local businesses to participate in helping to provide a fun yet educational event for our community.
X-ALT-DESC;FMTTYPE=text/html:We would like to invite all local businesses to participate in helping to provide a fun yet educational event for our community.
LOCATION:Day N Night Medical Supply 400 ByPass Lane Ste 100 Livingston\, TX 77351
UID:e.1105.6784
SEQUENCE:3
DTSTAMP:20260426T020212Z
URL:https://business.polkchamber.com/events/details/day-n-night-medical-supply-1st-annual-safety-scavenger-hunt-6784
END:VEVENT

END:VCALENDAR
