BEGIN:VCALENDAR
VERSION:2.0
PRODID:-//ChamberMaster//Event Calendar 2.0//EN
METHOD:PUBLISH
X-PUBLISHED-TTL:P3D
REFRESH-INTERVAL:P3D
CALSCALE:GREGORIAN
BEGIN:VEVENT
DTSTART:20240406T150000Z
DTEND:20240406T170000Z
X-MICROSOFT-CDO-ALLDAYEVENT:FALSE
SUMMARY:Democratic Club Meeting
DESCRIPTION:Monthly meeting of the Democratic Club of Polk County
X-ALT-DESC;FMTTYPE=text/html:Monthly meeting of the Democratic Club of Polk County
LOCATION:3626 Hwy. 190\, West\, Livingston\, TX
UID:e.1105.8033
SEQUENCE:3
DTSTAMP:20260423T081914Z
URL:https://business.polkchamber.com/events/details/democratic-club-meeting-04-06-2024-8033
END:VEVENT

END:VCALENDAR
