BEGIN:VCALENDAR
VERSION:2.0
PRODID:-//ChamberMaster//Event Calendar 2.0//EN
METHOD:PUBLISH
X-PUBLISHED-TTL:P3D
REFRESH-INTERVAL:P3D
CALSCALE:GREGORIAN
BEGIN:VEVENT
DTSTART:20260207T160000Z
DTEND:20260207T173000Z
X-MICROSOFT-CDO-ALLDAYEVENT:FALSE
SUMMARY:Democratic Club of Polk County February Meeting
DESCRIPTION:The Democratic Club of Polk County invites the public to attend its February monthly meeting on Saturday\, February 7\, 2026\, at 10:00 AM at Across the Tracks in Livingston.\n\nThe meeting will feature guest speaker Caitlin Rourk\, who will share insights on Texas political issues and the importance of civic engagement. The program includes a short presentation followed by discussion and audience questions.\n\nCoffee and donuts will be provided. This event is open to members\, guests\, and community members interested in local and state issues.
X-ALT-DESC;FMTTYPE=text/html:<p>The Democratic Club of Polk County invites the public to attend its February monthly meeting on Saturday\, February 7\, 2026\, at 10:00 AM at Across the Tracks in Livingston.</p>\n\n<p>The meeting will feature guest speaker Caitlin Rourk\, who will share insights on Texas political issues and the importance of civic engagement. The program includes a short presentation followed by discussion and audience questions.</p>\n\n<p>Coffee and donuts will be provided. This event is open to members\, guests\, and community members interested in local and state issues.</p>\n
LOCATION:Across the Tracks\, Livingston\, TX 309 N Jackson Ave\, Livingston\, TX 77351
UID:e.1105.9468
SEQUENCE:3
DTSTAMP:20260423T010621Z
URL:https://business.polkchamber.com/events/details/democratic-club-of-polk-county-february-meeting-9468
END:VEVENT

END:VCALENDAR
