BEGIN:VCALENDAR
VERSION:2.0
PRODID:-//ChamberMaster//Event Calendar 2.0//EN
METHOD:PUBLISH
X-PUBLISHED-TTL:P3D
REFRESH-INTERVAL:P3D
CALSCALE:GREGORIAN
BEGIN:VEVENT
DTSTART:20230513T150000Z
DTEND:20230513T180000Z
X-MICROSOFT-CDO-ALLDAYEVENT:FALSE
SUMMARY:Document Shred Day
DESCRIPTION:Keller Williams Northeast along with Community Title and Mid America Mortgage Is sponsoring a Free Shred Day Event\,. Anyone is invited to bring up to 2 bags of documents to be shredded. There will be Gift cards and Door Prizes given away.
X-ALT-DESC;FMTTYPE=text/html:Keller Williams Northeast along with Community Title and Mid America Mortgage Is sponsoring a Free Shred Day Event\,. Anyone is invited to bring up to 2 bags of documents to be shredded. There will be Gift cards and Door Prizes given away.
LOCATION:Keller Williams Northeast Parking Lot 2784 US Hwy !90\, Livingston TX
UID:e.1105.6783
SEQUENCE:3
DTSTAMP:20260426T015434Z
URL:https://business.polkchamber.com/events/details/document-shred-day-6783
END:VEVENT

END:VCALENDAR
