BEGIN:VCALENDAR
VERSION:2.0
PRODID:-//ChamberMaster//Event Calendar 2.0//EN
METHOD:PUBLISH
X-PUBLISHED-TTL:P3D
REFRESH-INTERVAL:P3D
CALSCALE:GREGORIAN
BEGIN:VEVENT
DTSTART:20230304T003000Z
DTEND:20230304T020000Z
X-MICROSOFT-CDO-ALLDAYEVENT:FALSE
SUMMARY:Dragons & Mythical Beasts presented by Angelina Arts Alliance
DESCRIPTION:Calling all brave heroes! From the creators of the West End smash hit Dinosaur World Live\, who bring spectacular puppets to life\, don't miss this brand new spell-binding adventure\, live on stage!
X-ALT-DESC;FMTTYPE=text/html:Calling all brave heroes! From the creators of the West End smash hit Dinosaur World Live\, who bring spectacular puppets to life\, don&rsquo\;t miss this brand new spell-binding adventure\, live on stage!
LOCATION:Temple Theater
UID:e.1105.6651
SEQUENCE:3
DTSTAMP:20260426T042332Z
URL:https://business.polkchamber.com/events/details/dragons-mythical-beasts-presented-by-angelina-arts-alliance-6651
END:VEVENT

END:VCALENDAR
