BEGIN:VCALENDAR
VERSION:2.0
PRODID:-//ChamberMaster//Event Calendar 2.0//EN
METHOD:PUBLISH
X-PUBLISHED-TTL:P3D
REFRESH-INTERVAL:P3D
CALSCALE:GREGORIAN
BEGIN:VEVENT
DTSTART:20230407T200000Z
DTEND:20230407T220000Z
X-MICROSOFT-CDO-ALLDAYEVENT:FALSE
SUMMARY:Easter Bunny Pics
DESCRIPTION:Stop by Texas Premier Realty for pictures with the Easter Bunny and a treat!!! Bring your phone or camera and snap away!!! We will have a super cute photo op set-up.
X-ALT-DESC;FMTTYPE=text/html:Stop by Texas Premier Realty for pictures with the Easter Bunny and a treat!!! Bring your phone or camera and snap away!!! We will have a super cute photo op set-up.
LOCATION:411 N Yaupon Ave Livingston\, TX
UID:e.1105.6763
SEQUENCE:3
DTSTAMP:20260426T041837Z
URL:https://business.polkchamber.com/events/details/easter-bunny-pics-6763
END:VEVENT

END:VCALENDAR
