BEGIN:VCALENDAR
VERSION:2.0
PRODID:-//ChamberMaster//Event Calendar 2.0//EN
METHOD:PUBLISH
X-PUBLISHED-TTL:P3D
REFRESH-INTERVAL:P3D
CALSCALE:GREGORIAN
BEGIN:VEVENT
DTSTART;VALUE=DATE:20260302
DTEND;VALUE=DATE:20260303
TRANSP:TRANSPARENT
X-MICROSOFT-CDO-ALLDAYEVENT:TRUE
SUMMARY:Food Truck Monday
DESCRIPTION:Join us for Food Truck Monday!\n\nThere will be a wide variety of foods to choose from.\n\nWe have picnic tables and umbrellas for your convenience!
X-ALT-DESC;FMTTYPE=text/html:Join us for Food Truck Monday!<br />\nThere will be a wide variety of foods to choose from.<br />\nWe have picnic tables and umbrellas for your convenience!
LOCATION:Polk County Chamber of Commerce 1001 Hwy 59 Loop North Livingston\, Texas 77351
UID:e.1105.9467
SEQUENCE:3
DTSTAMP:20260423T023102Z
URL:https://business.polkchamber.com/events/details/food-truck-monday-9467
END:VEVENT

END:VCALENDAR
