BEGIN:VCALENDAR
VERSION:2.0
PRODID:-//ChamberMaster//Event Calendar 2.0//EN
METHOD:PUBLISH
X-PUBLISHED-TTL:P3D
REFRESH-INTERVAL:P3D
CALSCALE:GREGORIAN
BEGIN:VEVENT
DTSTART:20251202T153000Z
DTEND:20251202T200000Z
X-MICROSOFT-CDO-ALLDAYEVENT:FALSE
SUMMARY:Gulf Coast Regional Blood Drive
DESCRIPTION:Save a life today! Give blood!\n\nGulf Coast Regional Blood Drive will be having a blood drive!\n\npromotions are stocking stuffers & A1c test!\n\nAppointments preferred. Walk ins welcome.
X-ALT-DESC;FMTTYPE=text/html:Save a life today! Give blood!<br />\nGulf Coast Regional Blood Drive will be having a blood drive!<br />\npromotions are stocking stuffers &amp\; A1c test!<br />\nAppointments preferred. Walk ins welcome.&nbsp\;
LOCATION:Polk County Chamber of Commerce 1001 Hwy 59 Loop North Livingston\, Texas 77351
UID:e.1105.9325
SEQUENCE:3
DTSTAMP:20260423T062400Z
URL:https://business.polkchamber.com/events/details/gulf-coast-regional-blood-drive-9325
END:VEVENT

END:VCALENDAR
