BEGIN:VCALENDAR
VERSION:2.0
PRODID:-//ChamberMaster//Event Calendar 2.0//EN
METHOD:PUBLISH
X-PUBLISHED-TTL:P3D
REFRESH-INTERVAL:P3D
CALSCALE:GREGORIAN
BEGIN:VEVENT
DTSTART:20230309T230000Z
DTEND:20230310T030000Z
X-MICROSOFT-CDO-ALLDAYEVENT:FALSE
SUMMARY:Health Fair Fundraiser Dinner
DESCRIPTION:Health Fair Fundraiser Dinner Southern Fried Catfish Dinner provided and prepared by Constable Scott Hughes Live Music by Jay Cantu & Dancing CASH PRIZE Drawing 2 lucky winners will go home with $100 each. Beer & Wine available for purchase Tickets $25
X-ALT-DESC;FMTTYPE=text/html:Health Fair Fundraiser Dinner Southern Fried Catfish Dinner provided and prepared by Constable Scott Hughes Live Music by Jay Cantu &amp\; Dancing CASH PRIZE Drawing 2 lucky winners will go home with $100 each. Beer &amp\; Wine available for purchase Tickets $25
LOCATION:114 Blue Jay Livingston\, Texas
UID:e.1105.6738
SEQUENCE:3
DTSTAMP:20260426T042026Z
URL:https://business.polkchamber.com/events/details/health-fair-fundraiser-dinner-6738
END:VEVENT

END:VCALENDAR
