BEGIN:VCALENDAR
VERSION:2.0
PRODID:-//ChamberMaster//Event Calendar 2.0//EN
METHOD:PUBLISH
X-PUBLISHED-TTL:P3D
REFRESH-INTERVAL:P3D
CALSCALE:GREGORIAN
BEGIN:VEVENT
DTSTART:20260110T160000Z
DTEND:20260110T171000Z
X-MICROSOFT-CDO-ALLDAYEVENT:FALSE
SUMMARY:January Democratic Club Meeting — Second Saturday (One-Time Change)
DESCRIPTION:Heads up\, friends: this month only\, the Democratic Club of Polk County meeting is moving to the second Saturday due to the New Year holiday and to a new location for January.\n\nJoin us as we kick off 2026 together sharing local updates\, hearing what's happening in our community\, and setting the tone for a year of community-first\, democracy-always work.\n\nWe'll also host a meet-and-greet with Savant Moore\, Democratic candidate for Texas Comptroller\, and invite attendees to stay for lunch as our first monthly social of the year.\n\nJanuary meeting details:\n\n\n	\n	Saturday\, January 10\n	\n	\n	10:00 AM\n	\n	\n	The Blue Duck\, Livingston (January location only)\n	\n\n\nWhy the change?\n\nJanuary calendars get weird. We adapt. Democracy doesn't take a holiday but we do respect the calendar.\n\nAll are welcome.\n\nBring a neighbor. Bring a question. Bring your voice.\n\nCommunity First. Democracy Always.
X-ALT-DESC;FMTTYPE=text/html:<p><strong>Heads up\, friends:</strong> this month only\, the Democratic Club of Polk County meeting is moving to the <strong>second Saturday</strong> due to the New Year holiday <strong>and to a new location for January</strong>.</p>\n\n<p>Join us as we kick off <strong>2026</strong> together&mdash\;sharing local updates\, hearing what&rsquo\;s happening in our community\, and setting the tone for a year of <strong>community-first\, democracy-always</strong> work.</p>\n\n<p>We&rsquo\;ll also host a <strong>meet-and-greet with Savant Moore</strong>\, Democratic candidate for Texas Comptroller\, and invite attendees to stay for lunch as our first monthly social of the year.</p>\n\n<p><strong>January meeting details:</strong></p>\n\n<ul>\n	<li>\n	<p><strong>Saturday\, January 10</strong></p>\n	</li>\n	<li>\n	<p><strong>10:00 AM</strong></p>\n	</li>\n	<li>\n	<p><strong>The Blue Duck\, Livingston</strong> <em>(January location only)</em></p>\n	</li>\n</ul>\n\n<p><strong>Why the change?</strong><br />\nJanuary calendars get weird. We adapt. Democracy doesn&rsquo\;t take a holiday&mdash\;but we do respect the calendar.</p>\n\n<p><strong>All are welcome.</strong><br />\nBring a neighbor. Bring a question. Bring your voice.</p>\n\n<p><em>Community First. Democracy Always.</em></p>\n
LOCATION:The Blue Duck 410 N Washington Ave\, Livingston\, TX 77351 (January meeting only)
UID:e.1105.9332
SEQUENCE:3
DTSTAMP:20260423T022929Z
URL:https://business.polkchamber.com/events/details/january-democratic-club-meeting-second-saturday-one-time-change-9332
END:VEVENT

END:VCALENDAR
