BEGIN:VCALENDAR
VERSION:2.0
PRODID:-//ChamberMaster//Event Calendar 2.0//EN
METHOD:PUBLISH
X-PUBLISHED-TTL:P3D
REFRESH-INTERVAL:P3D
CALSCALE:GREGORIAN
BEGIN:VEVENT
DTSTART:20230401T140000Z
DTEND:20230401T180000Z
X-MICROSOFT-CDO-ALLDAYEVENT:FALSE
SUMMARY:Joe W. Elliot House Benefit Auto Show
DESCRIPTION:We are super excited to announce the Joe W. Elliott House Auto Show is returning April 1\, 2023 in a new location- the Lufkin Mall parking lot on the JCPenney's end. \n\n\n\nSponsor and vendor opportunities available. Entry forms for car show are ready for pickup at our Administrative Office at 1504 W. Frank Avenue. For more information call 936.632.1514 or email kherman@hospiceinthepines.org.
X-ALT-DESC;FMTTYPE=text/html:We are super excited to announce the Joe W. Elliott House Auto Show is returning April 1\, 2023 in a new location- the Lufkin Mall parking lot on the JCPenney&#39\;s end.&nbsp\;<br />\n<br />\nSponsor and vendor opportunities available. Entry forms for car show are ready for pickup at our Administrative Office at 1504 W. Frank Avenue. For more information call 936.632.1514 or email kherman@hospiceinthepines.org.&nbsp\;
LOCATION:Lufkin Mall Parking Lot 4600 S. Medford Dr Lufkin\, TX 75904
UID:e.1105.6764
SEQUENCE:3
DTSTAMP:20260426T025819Z
URL:https://business.polkchamber.com/events/details/joe-w-elliot-house-benefit-auto-show-6764
END:VEVENT

END:VCALENDAR
