BEGIN:VCALENDAR
VERSION:2.0
PRODID:-//ChamberMaster//Event Calendar 2.0//EN
METHOD:PUBLISH
X-PUBLISHED-TTL:P3D
REFRESH-INTERVAL:P3D
CALSCALE:GREGORIAN
BEGIN:VEVENT
DTSTART:20211214T010000Z
DTEND:20211214T020000Z
X-MICROSOFT-CDO-ALLDAYEVENT:FALSE
SUMMARY:LEO Club Organizational Meeting
DESCRIPTION:Young people ages 12 - 18 years old wanting to serve their community. The  Leo Club will be community based. Students from any school in Polk County are invited including home schools and Christian School students. This is a great way to make new friends\, become leaders\, experience teamwork\, build up resumes and help the needy.
X-ALT-DESC;FMTTYPE=text/html:Young people ages 12 - 18 years old wanting to serve their community. The&nbsp\; Leo Club will be community based. Students from any school in Polk County are invited including home schools and Christian School students. This is a great way to make new friends\, become leaders\, experience teamwork\, build up resumes and help the needy.&nbsp\;&nbsp\;
LOCATION:First Baptist Church 106 Colt Road Livingston\, Tx 77351
UID:e.1105.6519
SEQUENCE:3
DTSTAMP:20260421T001743Z
URL:https://business.polkchamber.com/events/details/leo-club-organizational-meeting-6519
END:VEVENT

END:VCALENDAR
