BEGIN:VCALENDAR
VERSION:2.0
PRODID:-//ChamberMaster//Event Calendar 2.0//EN
METHOD:PUBLISH
X-PUBLISHED-TTL:P3D
REFRESH-INTERVAL:P3D
CALSCALE:GREGORIAN
BEGIN:VEVENT
DTSTART;VALUE=DATE:20170408
DTEND;VALUE=DATE:20170409
TRANSP:TRANSPARENT
X-MICROSOFT-CDO-ALLDAYEVENT:TRUE
SUMMARY:LHS 5K/Walk
DESCRIPTION:LHS Annual 5k/Walk benefitting the LISD Alumni scholarship fund.
X-ALT-DESC;FMTTYPE=text/html:LHS Annual 5k/Walk benefitting the LISD Alumni scholarship fund.
LOCATION:Livingston High School
UID:e.1105.3458
SEQUENCE:3
DTSTAMP:20260421T134532Z
URL:https://business.polkchamber.com/events/details/lhs-5k-walk-3458
END:VEVENT

END:VCALENDAR
