BEGIN:VCALENDAR
VERSION:2.0
PRODID:-//ChamberMaster//Event Calendar 2.0//EN
METHOD:PUBLISH
X-PUBLISHED-TTL:P3D
REFRESH-INTERVAL:P3D
CALSCALE:GREGORIAN
BEGIN:VEVENT
DTSTART:20231021T230000Z
DTEND:20231022T020000Z
X-MICROSOFT-CDO-ALLDAYEVENT:FALSE
SUMMARY:Live Music @Two Creeks Crossing Resort
DESCRIPTION:Payton Riley performing at Two Creeks Crossing Resort 6pm to 9pm. Tickets available $15/ea. Open to the public! Swampers Icehouse now open Fridays 3pm to 9pm and Saturdays 11am to 9pm. Call the office to purchase tickets at 936.646.4071 or toll free 877.495.1974 or stop by and purchase your tickets at the office before 6pm
X-ALT-DESC;FMTTYPE=text/html:Payton Riley performing at Two Creeks Crossing Resort 6pm to 9pm. Tickets available $15/ea. Open to the public! Swampers Icehouse now open Fridays 3pm to 9pm and Saturdays 11am to 9pm. Call the office to purchase tickets at 936.646.4071 or toll free 877.495.1974 or stop by and purchase your tickets at the office before 6pm
LOCATION:Two Creeks Crossing Resort 1581 Triple Creek Loop Livingston\, Texas 77351
UID:e.1105.7358
SEQUENCE:3
DTSTAMP:20260425T193141Z
URL:https://business.polkchamber.com/events/details/live-music-two-creeks-crossing-resort-10-21-2023-7358
END:VEVENT

END:VCALENDAR
