BEGIN:VCALENDAR
VERSION:2.0
PRODID:-//ChamberMaster//Event Calendar 2.0//EN
METHOD:PUBLISH
X-PUBLISHED-TTL:P3D
REFRESH-INTERVAL:P3D
CALSCALE:GREGORIAN
BEGIN:VEVENT
DTSTART:20231212T230000Z
DTEND:20231213T020000Z
X-MICROSOFT-CDO-ALLDAYEVENT:FALSE
SUMMARY:Livingston City Council Meeting
DESCRIPTION:
X-ALT-DESC;FMTTYPE=text/html:
LOCATION:Livingston City Hall\, 200 W. Church Street\, Livingston\, Texas
UID:e.1105.7284
SEQUENCE:3
DTSTAMP:20260425T133347Z
URL:https://business.polkchamber.com/events/details/livingston-city-council-meeting-12-12-2023-7284
END:VEVENT

END:VCALENDAR
