BEGIN:VCALENDAR
VERSION:2.0
PRODID:-//ChamberMaster//Event Calendar 2.0//EN
METHOD:PUBLISH
X-PUBLISHED-TTL:P3D
REFRESH-INTERVAL:P3D
CALSCALE:GREGORIAN
BEGIN:VEVENT
DTSTART;VALUE=DATE:20260221
DTEND;VALUE=DATE:20260222
TRANSP:TRANSPARENT
X-MICROSOFT-CDO-ALLDAYEVENT:TRUE
SUMMARY:MARDI GRAS GUMBO COOK OFF AT TWO CREEKS CROSSING RESORT!
DESCRIPTION:MARDI GRAS FUN! GUMBO COOK OFF! ENTRY FORM AND FEE DUE BY FEBRUARY 16\,2026  \n\nA SELECT PANEL OF JUDGES WILL DETERMINE THE WINNERS. PRIZES DETERMINED BY ENTRY FEES.\n\nDECORATION WINNERS WILL BE DETERMINED BY PEOPLES CHOICE.\n\nFUN EVENTS INCLUDED WITH YOUR RESERVATION!  COOK OFF FEES $35/PER TEAM MEMBER\n\nAS A RESORT GUEST - TASTING IS INCLUDED
X-ALT-DESC;FMTTYPE=text/html:<span style="background-color:rgb(255\, 255\, 255)\; color:rgb(51\, 51\, 51)\; font-family:sans-serif\,arial\,verdana\,trebuchet ms\; font-size:13px">MARDI GRAS FUN! GUMBO COOK OFF! ENTRY FORM AND FEE DUE BY FEBRUARY 16\,2026&nbsp\;&nbsp\;<br />\nA SELECT PANEL OF JUDGES WILL DETERMINE THE WINNERS. PRIZES DETERMINED BY ENTRY FEES.<br />\nDECORATION WINNERS WILL BE DETERMINED BY PEOPLES CHOICE.<br />\nFUN EVENTS INCLUDED WITH YOUR RESERVATION!&nbsp\; COOK OFF FEES $35/PER TEAM MEMBER</span><br />\n<span style="background-color:rgb(255\, 255\, 255)\; color:rgb(51\, 51\, 51)\; font-family:sans-serif\,arial\,verdana\,trebuchet ms\; font-size:13px">AS A RESORT GUEST - TASTING IS INCLUDED</span><br />\n&nbsp\;
LOCATION:TWO CREEKS CROSSING RESORT 1581 TRIPLE CREEK LOOP LIVINGSTON\, TEXAS 77351
UID:e.1105.9472
SEQUENCE:3
DTSTAMP:20260423T005803Z
URL:https://business.polkchamber.com/events/details/mardi-gras-gumbo-cook-off-at-two-creeks-crossing-resort-9472
END:VEVENT

END:VCALENDAR
