BEGIN:VCALENDAR
VERSION:2.0
PRODID:-//ChamberMaster//Event Calendar 2.0//EN
METHOD:PUBLISH
X-PUBLISHED-TTL:P3D
REFRESH-INTERVAL:P3D
CALSCALE:GREGORIAN
BEGIN:VEVENT
DTSTART:20230308T150000Z
DTEND:20230308T190000Z
X-MICROSOFT-CDO-ALLDAYEVENT:FALSE
SUMMARY:Medical Vendor Market & Lunch Day
DESCRIPTION:There will be up to 51 local vendors from various medical and financial businesses. Learn about these resources you may need one day. Lunch 11a-1pm - Smoked Pulled Pork Sandwich with Chips and Cookie $8
X-ALT-DESC;FMTTYPE=text/html:There will be up to 51 local vendors from various medical and financial businesses. Learn about these resources you may need one day. Lunch 11a-1pm - Smoked Pulled Pork Sandwich with Chips and Cookie $8
LOCATION:Escapees Park 114 Blue Jay Livingston\, Texas
UID:e.1105.6737
SEQUENCE:3
DTSTAMP:20260426T042331Z
URL:https://business.polkchamber.com/events/details/medical-vendor-market-lunch-day-6737
END:VEVENT

END:VCALENDAR
