BEGIN:VCALENDAR
VERSION:2.0
PRODID:-//ChamberMaster//Event Calendar 2.0//EN
METHOD:PUBLISH
X-PUBLISHED-TTL:P3D
REFRESH-INTERVAL:P3D
CALSCALE:GREGORIAN
BEGIN:VEVENT
DTSTART:20230516T213000Z
DTEND:20230516T223000Z
X-MICROSOFT-CDO-ALLDAYEVENT:FALSE
SUMMARY:Medicare 101 Presentation
DESCRIPTION:We will dive into Medicare\, enrollment times\, parts of Medicare\, Medicare options\, also we will discuss resources that might also be available to assist you. There will also be a question and answer session after the presentation for any questions you may have.
X-ALT-DESC;FMTTYPE=text/html:We will dive into Medicare\, enrollment times\, parts of Medicare\, Medicare options\, also we will discuss resources that might also be available to assist you. There will also be a question and answer session after the presentation for any questions you may have.
LOCATION:City of Onalaska Public Library 372 FM 356 #103 Onalaska TX 77360
UID:e.1105.6743
SEQUENCE:3
DTSTAMP:20260426T020016Z
URL:https://business.polkchamber.com/events/details/medicare-101-presentation-05-16-2023-6743
END:VEVENT

END:VCALENDAR
