BEGIN:VCALENDAR
VERSION:2.0
PRODID:-//ChamberMaster//Event Calendar 2.0//EN
METHOD:PUBLISH
X-PUBLISHED-TTL:P3D
REFRESH-INTERVAL:P3D
CALSCALE:GREGORIAN
BEGIN:VEVENT
DTSTART:20250120T160000Z
DTEND:20250120T180000Z
X-MICROSOFT-CDO-ALLDAYEVENT:FALSE
SUMMARY:MLK Grande Parade Midtown Houston-2025
DESCRIPTION:The 31t Annual MLK Grande Parade will be held on January 20\, 2025 in Midtown Houston originating on San Jacinto Street & Elgin Street beginning @ 10 (CST). The parade's theme is "Unity Through Diversity" and will feature culturally diverse performance groups from across the nation. Watch live on the Cw 39 or to learn more visit us @ www.mlkgrandeparade.org
X-ALT-DESC;FMTTYPE=text/html:The 31t Annual MLK Grande Parade will be held on January 20\, 2025 in Midtown Houston originating on San Jacinto Street &amp\; Elgin Street beginning @ 10 (CST). The parade&#39\;s theme is &quot\;Unity Through Diversity&quot\; and will feature culturally diverse performance groups from across the nation. Watch live on the Cw 39 or to learn more visit us @ www.mlkgrandeparade.org
LOCATION:Midtown Houston 1200 Holman Street (San Jacinto Street & Elgin Street) Houston\, Texas 77004
UID:e.1105.8061
SEQUENCE:3
DTSTAMP:20260424T121248Z
URL:https://business.polkchamber.com/events/details/mlk-grande-parade-midtown-houston-2025-8061
END:VEVENT

END:VCALENDAR
