BEGIN:VCALENDAR
VERSION:2.0
PRODID:-//ChamberMaster//Event Calendar 2.0//EN
METHOD:PUBLISH
X-PUBLISHED-TTL:P3D
REFRESH-INTERVAL:P3D
CALSCALE:GREGORIAN
BEGIN:VEVENT
DTSTART:20230921T223000Z
DTEND:20230922T020000Z
X-MICROSOFT-CDO-ALLDAYEVENT:FALSE
SUMMARY:Moe Bandy Concert
DESCRIPTION:Dinner and Show. Doors open @ 5pm next door qt Main Street Merchandise for Sip N Shop\, Dinner served 5:30 - 6:30 pm and show starts at 7pm.
X-ALT-DESC;FMTTYPE=text/html:Dinner and Show. Doors open @ 5pm next door qt Main Street Merchandise for Sip N Shop\, Dinner served 5:30 - 6:30 pm and show starts at 7pm.
LOCATION:Almas Courthouse Whistlen nStop Cafe
UID:e.1105.7245
SEQUENCE:3
DTSTAMP:20260425T205823Z
URL:https://business.polkchamber.com/events/details/moe-bandy-concert-7245
END:VEVENT

END:VCALENDAR
