BEGIN:VCALENDAR
VERSION:2.0
PRODID:-//ChamberMaster//Event Calendar 2.0//EN
METHOD:PUBLISH
X-PUBLISHED-TTL:P3D
REFRESH-INTERVAL:P3D
CALSCALE:GREGORIAN
BEGIN:VEVENT
DTSTART:20260430T160000Z
DTEND:20260430T190000Z
X-MICROSOFT-CDO-ALLDAYEVENT:FALSE
SUMMARY:Open House- Midday at the Hacienda
DESCRIPTION:Join us for a special Broker Open House & Industry Networking Event at one of Livingston's most distinctive hacienda-style properties. This is a come-and-go opportunity for real estate professionals\, lenders\, title partners\, appraisers\, inspectors and industry colleagues to tour the home\, connect with peers\, and build relationships in a relaxed\, welcoming setting. Enjoy a thoughtfully curated midday experience featuring light refreshments\, refreshing beverages\, and a casual atmosphere designed for meaningful conversation and collaboration not a traditional showing. Whether you're previewing the property for clients\, networking with fellow professionals\, or simply looking to stay connected within the local real estate community\, we welcome you to stop by and join us. We look forward to seeing you there and strengthening our local professional community.
X-ALT-DESC;FMTTYPE=text/html:Join us for a special Broker Open House &amp\; Industry Networking Event at one of Livingston&rsquo\;s most distinctive hacienda-style properties. This is a come-and-go opportunity for real estate professionals\, lenders\, title partners\, appraisers\, inspectors and industry colleagues to tour the home\, connect with peers\, and build relationships in a relaxed\, welcoming setting. Enjoy a thoughtfully curated midday experience featuring light refreshments\, refreshing beverages\, and a casual atmosphere designed for meaningful conversation and collaboration&mdash\;not a traditional showing. Whether you&rsquo\;re previewing the property for clients\, networking with fellow professionals\, or simply looking to stay connected within the local real estate community\, we welcome you to stop by and join us. We look forward to seeing you there and strengthening our local professional community.
LOCATION:5519 US HWY 59 N Livingston\, Texas 77351
UID:e.1105.9713
SEQUENCE:3
DTSTAMP:20260422T222203Z
URL:https://business.polkchamber.com/events/details/open-house-midday-at-the-hacienda-9713
END:VEVENT

END:VCALENDAR
