BEGIN:VCALENDAR
VERSION:2.0
PRODID:-//ChamberMaster//Event Calendar 2.0//EN
METHOD:PUBLISH
X-PUBLISHED-TTL:P3D
REFRESH-INTERVAL:P3D
CALSCALE:GREGORIAN
BEGIN:VEVENT
DTSTART:20240208T233000Z
DTEND:20240209T030000Z
X-MICROSOFT-CDO-ALLDAYEVENT:FALSE
SUMMARY:Paul & Pete Band
DESCRIPTION:Playing a variety of Louisiana Swamp Pop\, Rock & Roll\, Country\, R&B\, 50's and Zydeco.
X-ALT-DESC;FMTTYPE=text/html:Playing a variety of Louisiana Swamp Pop\, Rock &amp\; Roll\, Country\, R&amp\;B\, 50&#39\;s and Zydeco.
LOCATION:Alma's Courthouse Whistlestop Cafe
UID:e.1105.7718
SEQUENCE:3
DTSTAMP:20260425T102352Z
URL:https://business.polkchamber.com/events/details/paul-pete-band-7718
END:VEVENT

END:VCALENDAR
