BEGIN:VCALENDAR
VERSION:2.0
PRODID:-//ChamberMaster//Event Calendar 2.0//EN
METHOD:PUBLISH
X-PUBLISHED-TTL:P3D
REFRESH-INTERVAL:P3D
CALSCALE:GREGORIAN
BEGIN:VEVENT
DTSTART;VALUE=DATE:20260516
DTEND;VALUE=DATE:20260517
TRANSP:TRANSPARENT
X-MICROSOFT-CDO-ALLDAYEVENT:TRUE
SUMMARY:PCYRA PLAYDAY
DESCRIPTION:Polk County Youth Rodeo Association Saddle and Buckle Series Playday # 3
X-ALT-DESC;FMTTYPE=text/html:Polk County Youth Rodeo Association Saddle and Buckle Series Playday # 3
LOCATION:Barney Wiggins Memorial Arena
UID:e.1105.9708
SEQUENCE:3
DTSTAMP:20260422T225824Z
URL:https://business.polkchamber.com/events/details/pcyra-playday-9708
END:VEVENT

END:VCALENDAR
