BEGIN:VCALENDAR
VERSION:2.0
PRODID:-//ChamberMaster//Event Calendar 2.0//EN
METHOD:PUBLISH
X-PUBLISHED-TTL:P3D
REFRESH-INTERVAL:P3D
CALSCALE:GREGORIAN
BEGIN:VEVENT
DTSTART:20260709T230000Z
DTEND:20260711T170000Z
X-MICROSOFT-CDO-ALLDAYEVENT:FALSE
SUMMARY:PCYRA YOUTH RODEO
DESCRIPTION:Polk County Youth Rodeo Association 65th Annual Youth Rodeo\, Junior World Finals Qualifying Rodeo for Bareback\, Saddle Bronc and Bull Riding on Friday and Saturday nights. Contestants enter through EquestEvent.com
X-ALT-DESC;FMTTYPE=text/html:Polk County Youth Rodeo Association 65th Annual Youth Rodeo\, Junior World Finals Qualifying Rodeo for Bareback\, Saddle Bronc and Bull Riding on Friday and Saturday nights. Contestants enter through EquestEvent.com
LOCATION:Barney Wiggins Memorial Arena 101 Fair Street Livingston\, TX
UID:e.1105.9709
SEQUENCE:3
DTSTAMP:20260422T225835Z
URL:https://business.polkchamber.com/events/details/pcyra-youth-rodeo-9709
END:VEVENT

END:VCALENDAR
