BEGIN:VCALENDAR
VERSION:2.0
PRODID:-//ChamberMaster//Event Calendar 2.0//EN
METHOD:PUBLISH
X-PUBLISHED-TTL:P3D
REFRESH-INTERVAL:P3D
CALSCALE:GREGORIAN
BEGIN:VEVENT
DTSTART:20230415T000000Z
DTEND:20230415T020000Z
X-MICROSOFT-CDO-ALLDAYEVENT:FALSE
SUMMARY:Pines Classic Film Series: Dirty Dancing
DESCRIPTION:Dirty Dancing (1987) Spending the summer at a Catskills resort with her family\, Frances "Baby" Houseman falls in love with the camp's dance instructor\, Johnny Castle. Rated PG-13
X-ALT-DESC;FMTTYPE=text/html:Dirty Dancing (1987) Spending the summer at a Catskills resort with her family\, Frances &quot\;Baby&quot\; Houseman falls in love with the camp&#39\;s dance instructor\, Johnny Castle. Rated PG-13
LOCATION:The Pines Theater
UID:e.1105.6752
SEQUENCE:3
DTSTAMP:20260426T042314Z
URL:https://business.polkchamber.com/events/details/pines-classic-film-series-dirty-dancing-6752
END:VEVENT

END:VCALENDAR
