BEGIN:VCALENDAR
VERSION:2.0
PRODID:-//ChamberMaster//Event Calendar 2.0//EN
METHOD:PUBLISH
X-PUBLISHED-TTL:P3D
REFRESH-INTERVAL:P3D
CALSCALE:GREGORIAN
BEGIN:VEVENT
DTSTART:20230812T000000Z
DTEND:20230812T020000Z
X-MICROSOFT-CDO-ALLDAYEVENT:FALSE
SUMMARY:Pines Classic Film Series: Willy Wonka and the Chocolate Factory
DESCRIPTION:Willy Wonka and the Chocolate Factory (1971) A poor but hopeful boy seeks one of the five coveted golden tickets that will send him on a tour of Willy Wonka's mysterious chocolate factory. Rated G
X-ALT-DESC;FMTTYPE=text/html:Willy Wonka and the Chocolate Factory (1971) A poor but hopeful boy seeks one of the five coveted golden tickets that will send him on a tour of Willy Wonka&#39\;s mysterious chocolate factory. Rated G
LOCATION:The Pines Theater
UID:e.1105.6756
SEQUENCE:3
DTSTAMP:20260425T234131Z
URL:https://business.polkchamber.com/events/details/pines-classic-film-series-willy-wonka-and-the-chocolate-factory-6756
END:VEVENT

END:VCALENDAR
