BEGIN:VCALENDAR
VERSION:2.0
PRODID:-//ChamberMaster//Event Calendar 2.0//EN
METHOD:PUBLISH
X-PUBLISHED-TTL:P3D
REFRESH-INTERVAL:P3D
CALSCALE:GREGORIAN
BEGIN:VEVENT
DTSTART:20230915T000000Z
DTEND:20230915T020000Z
X-MICROSOFT-CDO-ALLDAYEVENT:FALSE
SUMMARY:Pines Presents Series: T. Graham Brown
DESCRIPTION:T. Graham Brown is a legendary singer with a unique sound that has been compared to both George Jones and Otis Redding. With 15 studio albums and more than 35 chart-topping singles\, he has made an indelible mark on the music industry since 1986. His hits like "I Tell It Like It Used To Be\," "Hell and High Water\," and "Wine Into Water" are just a few of the classics that have been enjoyed by fans worldwide. Come experience T. Graham Brown's iconic sound for yourself and see why he's still going strong after all these years!
X-ALT-DESC;FMTTYPE=text/html:T. Graham Brown is a legendary singer with a unique sound that has been compared to both George Jones and Otis Redding. With 15 studio albums and more than 35 chart-topping singles\, he has made an indelible mark on the music industry since 1986. His hits like &ldquo\;I Tell It Like It Used To Be\,&rdquo\; &ldquo\;Hell and High Water\,&rdquo\; and &ldquo\;Wine Into Water&rdquo\; are just a few of the classics that have been enjoyed by fans worldwide. Come experience T. Graham Brown&rsquo\;s iconic sound for yourself and see why he&rsquo\;s still going strong after all these years!
LOCATION:The Pines Theater
UID:e.1105.7293
SEQUENCE:3
DTSTAMP:20260425T210127Z
URL:https://business.polkchamber.com/events/details/pines-presents-series-t-graham-brown-7293
END:VEVENT

END:VCALENDAR
