BEGIN:VCALENDAR
VERSION:2.0
PRODID:-//ChamberMaster//Event Calendar 2.0//EN
METHOD:PUBLISH
X-PUBLISHED-TTL:P3D
REFRESH-INTERVAL:P3D
CALSCALE:GREGORIAN
BEGIN:VEVENT
DTSTART:20240710T170000Z
DTEND:20240713T170000Z
X-MICROSOFT-CDO-ALLDAYEVENT:FALSE
SUMMARY:POLK CO YOUTH RODEO
DESCRIPTION:Polk County Youth Rodeo July 10-13 2024 7 PM nightly Admission $10 adults kids under12 free All Rough Stock (Bull Riding Bareback Riding and Saddle Bronc] Friday and Saturday nights only. Youths from 4 years to 19 years competing for Saddles Buckles and $10\,500 added Money Local Mutton Busting and Straightaway barrels before the rodeo nightly For more information call 409-429-8627 or visit www.pcyratx.net
X-ALT-DESC;FMTTYPE=text/html:Polk County Youth Rodeo July 10-13 2024 7 PM nightly Admission $10 adults kids under12 free All Rough Stock (Bull Riding Bareback Riding and Saddle Bronc] Friday and Saturday nights only. Youths from 4 years to 19 years competing for Saddles Buckles and $10\,500 added Money Local Mutton Busting and Straightaway barrels before the rodeo nightly For more information call 409-429-8627 or visit www.pcyratx.net
LOCATION:Barney Wiggins Fairground Fair Street Livingston Texas
UID:e.1105.8068
SEQUENCE:3
DTSTAMP:20260425T000514Z
URL:https://business.polkchamber.com/events/details/polk-co-youth-rodeo-8068
END:VEVENT

END:VCALENDAR
