BEGIN:VCALENDAR
VERSION:2.0
PRODID:-//ChamberMaster//Event Calendar 2.0//EN
METHOD:PUBLISH
X-PUBLISHED-TTL:P3D
REFRESH-INTERVAL:P3D
CALSCALE:GREGORIAN
BEGIN:VEVENT
DTSTART:20240427T150000Z
DTEND:20240427T190000Z
X-MICROSOFT-CDO-ALLDAYEVENT:FALSE
SUMMARY:Prescription Drug Take Back Day
DESCRIPTION:Polk CIA and Alcohol and Drug Awareness Council are partnering with local law enforcement agenys and the DEA to host National Prescription Drug Take Back Day. Local Law Enforcement will collect expired or unused tablets\, capsules\, patches and other solid forms of prescription drugs. Collection sites will not accept syringes\, sharps or illicit drugs. This is a safe way to discard your unused or expired prescription drugs. Local organizations will be on hand with resources and information.
X-ALT-DESC;FMTTYPE=text/html:Polk CIA and Alcohol and Drug Awareness Council are partnering with local law enforcement agenys and the DEA to host National Prescription Drug Take Back Day. Local Law Enforcement will collect expired or unused tablets\, capsules\, patches and other solid forms of prescription drugs. Collection sites will not accept syringes\, sharps or illicit drugs. This is a safe way to discard your unused or expired prescription drugs. Local organizations will be on hand with resources and information.
LOCATION:Livingston Police Department- Onalaska Police Department Corrigan Police Department
UID:e.1105.8032
SEQUENCE:3
DTSTAMP:20260423T095110Z
URL:https://business.polkchamber.com/events/details/prescription-drug-take-back-day-8032
END:VEVENT

END:VCALENDAR
