BEGIN:VCALENDAR
VERSION:2.0
PRODID:-//ChamberMaster//Event Calendar 2.0//EN
METHOD:PUBLISH
X-PUBLISHED-TTL:P3D
REFRESH-INTERVAL:P3D
CALSCALE:GREGORIAN
BEGIN:VEVENT
DTSTART:20170214T143000Z
DTEND:20170214T223000Z
X-MICROSOFT-CDO-ALLDAYEVENT:FALSE
SUMMARY:Relay for Life Bake Sale
DESCRIPTION:A bake sale hosted by Livingston Pediatrics to benefit Relay for Life and The American Cancer Society. All desserts are homemade!
X-ALT-DESC;FMTTYPE=text/html:A bake sale hosted by Livingston Pediatrics to benefit Relay for Life and The American Cancer Society. All desserts are homemade!
LOCATION:Livingston Pediatrics (In the CHI Memorial Complex) 400 Ogletree Drive Livingston\, TX 77351
UID:e.1105.3544
SEQUENCE:3
DTSTAMP:20260421T170438Z
URL:https://business.polkchamber.com/events/details/relay-for-life-bake-sale-3544
END:VEVENT

END:VCALENDAR
