BEGIN:VCALENDAR
VERSION:2.0
PRODID:-//ChamberMaster//Event Calendar 2.0//EN
METHOD:PUBLISH
X-PUBLISHED-TTL:P3D
REFRESH-INTERVAL:P3D
CALSCALE:GREGORIAN
BEGIN:VEVENT
DTSTART:20230324T003000Z
DTEND:20230324T020000Z
X-MICROSOFT-CDO-ALLDAYEVENT:FALSE
SUMMARY:Ricky Skaggs & The Kentucky Thunder presented by Angelina Arts Alliance
DESCRIPTION:Backed by his bluegrass band Kentucky Thunder\, country music legend Ricky Skaggs will grace the Temple Theater stage with songs from his long and illustrious career\, including "Sis Draper\," "Return to Sender" and "Road to Spencer." Skaggs has made a name for himself as a string virtuoso with a taste for stripped-down\, traditional bluegrass and honky-tonk sounds\, earning him 15 Grammy  Awards\, multiple Hall of Fame memberships\, and a host of adoring fans! Don't miss this rousing performance by a master of the mandolin and his star-studded band!
X-ALT-DESC;FMTTYPE=text/html:Backed by his bluegrass band Kentucky Thunder\, country music legend Ricky Skaggs will grace the Temple Theater stage with songs from his long and illustrious career\, including &ldquo\;Sis Draper\,&rdquo\; &ldquo\;Return to Sender&rdquo\; and &ldquo\;Road to Spencer.&rdquo\; Skaggs has made a name for himself as a string virtuoso with a taste for stripped-down\, traditional bluegrass and honky-tonk sounds\, earning him 15 Grammy&reg\; Awards\, multiple Hall of Fame memberships\, and a host of adoring fans! Don&rsquo\;t miss this rousing performance by a master of the mandolin and his star-studded band!
LOCATION:The Temple Theater
UID:e.1105.6670
SEQUENCE:3
DTSTAMP:20260426T042419Z
URL:https://business.polkchamber.com/events/details/ricky-skaggs-the-kentucky-thunder-presented-by-angelina-arts-alliance-6670
END:VEVENT

END:VCALENDAR
