BEGIN:VCALENDAR
VERSION:2.0
PRODID:-//ChamberMaster//Event Calendar 2.0//EN
METHOD:PUBLISH
X-PUBLISHED-TTL:P3D
REFRESH-INTERVAL:P3D
CALSCALE:GREGORIAN
BEGIN:VEVENT
DTSTART:20180223T000000Z
DTEND:20180223T020000Z
X-MICROSOFT-CDO-ALLDAYEVENT:FALSE
SUMMARY:Rotary Pancake Supper
DESCRIPTION:Delicious pancakes and sausage\, eat in or take out . Silent and Live Auction
X-ALT-DESC;FMTTYPE=text/html:Delicious pancakes and sausage\, eat in or take out . Silent and Live Auction
LOCATION:Livingston Jr. High School
UID:e.1105.4871
SEQUENCE:3
DTSTAMP:20260420T195206Z
URL:https://business.polkchamber.com/events/details/rotary-pancake-supper-4871
END:VEVENT

END:VCALENDAR
