BEGIN:VCALENDAR
VERSION:2.0
PRODID:-//ChamberMaster//Event Calendar 2.0//EN
METHOD:PUBLISH
X-PUBLISHED-TTL:P3D
REFRESH-INTERVAL:P3D
CALSCALE:GREGORIAN
BEGIN:VEVENT
DTSTART:20171201T000000Z
DTEND:20171201T030000Z
X-MICROSOFT-CDO-ALLDAYEVENT:FALSE
SUMMARY:"Safe To Worship" Seminar
DESCRIPTION:Church Safety and Security Seminar by Robert "Bob" Hurst www.safetoworship.com Anyone involved in church safety and security invited to attend\, All denominations welcome. Sheriff Hammack and Chief Clifton or their representatives will also be in attendance.
X-ALT-DESC;FMTTYPE=text/html:Church Safety and Security Seminar by Robert &quot\;Bob&quot\; Hurst www.safetoworship.com Anyone involved in church safety and security invited to attend\, All denominations welcome. Sheriff Hammack and Chief Clifton or their representatives will also be in attendance.
LOCATION:Livingston\, TX church of Christ\, 1107 West Church St. Livingston\, TX 77351
UID:e.1105.4880
SEQUENCE:3
DTSTAMP:20260421T003255Z
URL:https://business.polkchamber.com/events/details/safe-to-worship-seminar-4880
END:VEVENT

END:VCALENDAR
