BEGIN:VCALENDAR
VERSION:2.0
PRODID:-//ChamberMaster//Event Calendar 2.0//EN
METHOD:PUBLISH
X-PUBLISHED-TTL:P3D
REFRESH-INTERVAL:P3D
CALSCALE:GREGORIAN
BEGIN:VEVENT
DTSTART:20230413T170000Z
DTEND:20230413T180000Z
X-MICROSOFT-CDO-ALLDAYEVENT:FALSE
SUMMARY:Sexual Assault Awareness Luncheon
DESCRIPTION:April is Sexual Assault Awareness Month. To commemorate the month and open the door to understanding this crime locally\, the Family Crisis Center of East Texas is unveiling an art display and hosting a luncheon at the Livingston-Polk Chamber of Commerce\, located 1001 US-59 Loop N. Please join us\, along with agency staff and select partner agency guests at 12 p.m.\, Thursday\, April 13. The event is free and open to the public. The Family Crisis Center of East Texas (FCCET) is a non-profit organization that empowers survivors of domestic violence and sexual assault by providing crisis intervention and advocacy services. The FCCET also engages the community through education to build awareness and prevent domestic violence and sexual assault.
X-ALT-DESC;FMTTYPE=text/html:April is Sexual Assault Awareness Month. To commemorate the month and open the door to understanding this crime locally\, the Family Crisis Center of East Texas is unveiling an art display and hosting a luncheon at the Livingston-Polk Chamber of Commerce\, located 1001 US-59 Loop N. Please join us\, along with agency staff and select partner agency guests at 12 p.m.\, Thursday\, April 13. The event is free and open to the public. The Family Crisis Center of East Texas (FCCET) is a non-profit organization that empowers survivors of domestic violence and sexual assault by providing crisis intervention and advocacy services. The FCCET also engages the community through education to build awareness and prevent domestic violence and sexual assault.
LOCATION:Livingston-Polk Chamber of Commerce
UID:e.1105.6780
SEQUENCE:3
DTSTAMP:20260426T042026Z
URL:https://business.polkchamber.com/events/details/sexual-assault-awareness-luncheon-6780
END:VEVENT

END:VCALENDAR
