BEGIN:VCALENDAR
VERSION:2.0
PRODID:-//ChamberMaster//Event Calendar 2.0//EN
METHOD:PUBLISH
X-PUBLISHED-TTL:P3D
REFRESH-INTERVAL:P3D
CALSCALE:GREGORIAN
BEGIN:VEVENT
DTSTART:20230923T150000Z
DTEND:20230923T230000Z
X-MICROSOFT-CDO-ALLDAYEVENT:FALSE
SUMMARY:SPCA of Polk County - The Clinic - Grand Opening
DESCRIPTION:We'll officially open our latest venture in animal welfare\, providing the community with affordable spay\, neuter and wellness services right here in Polk County. We'll be giving away goody bags\, food and non-alcoholic drink (sorry) and holding a ribbon cutting ceremony to set us on our way making a difference in the community. The Clinic will operate on Mondays and Wednesdays each week for Spay & Neuter surgery appointments and Saturdays for walk-in only wellness services.
X-ALT-DESC;FMTTYPE=text/html:We&#39\;ll officially open our latest venture in animal welfare\, providing the community with affordable spay\, neuter and wellness services right here in Polk County. We&#39\;ll be giving away goody bags\, food and non-alcoholic drink (sorry) and holding a ribbon cutting ceremony to set us on our way making a difference in the community. The Clinic will operate on Mondays and Wednesdays each week for Spay &amp\; Neuter surgery appointments and Saturdays for walk-in only wellness services.
LOCATION:802 S Houston Ave\, Livingston\, TX 77351
UID:e.1105.7320
SEQUENCE:3
DTSTAMP:20260425T210707Z
URL:https://business.polkchamber.com/events/details/spca-of-polk-county-the-clinic-grand-opening-7320
END:VEVENT

END:VCALENDAR
