BEGIN:VCALENDAR
VERSION:2.0
PRODID:-//ChamberMaster//Event Calendar 2.0//EN
METHOD:PUBLISH
X-PUBLISHED-TTL:P3D
REFRESH-INTERVAL:P3D
CALSCALE:GREGORIAN
BEGIN:VEVENT
DTSTART:20261009T130000Z
DTEND:20261011T040000Z
X-MICROSOFT-CDO-ALLDAYEVENT:FALSE
SUMMARY:ST JUDES BENEFIT
DESCRIPTION:29TH Annual St Judes Childrens Hospital benefit BBQ and auction. Move in on the 9th\, pick up turn in boxes\, Cooks Choice turn in at 8:30 pm. Cookoff will be sanctioned by IBCA but awards will be given out to top IBCA cooks & top St Jude Legacy cooks. Cookoff and auction will be on Saturday. \n\nBenefit will be presented by the Polk County Chamber of Commerce.
X-ALT-DESC;FMTTYPE=text/html:29TH Annual St Judes Childrens Hospital benefit BBQ and auction. Move in on the 9th\, pick up turn in boxes\, Cooks Choice turn in at 8:30 pm. Cookoff will be sanctioned by IBCA but awards will be given out to top IBCA cooks &amp\; top St Jude Legacy cooks. Cookoff and auction will be on Saturday.&nbsp\;<br />\nBenefit will be presented by the Polk County Chamber of Commerce.&nbsp\;
LOCATION:Joe Pedigo Park 925 U. S. Bypass North Livingston\, Texas 77351
UID:e.1105.9714
SEQUENCE:3
DTSTAMP:20260423T094106Z
URL:https://business.polkchamber.com/events/details/st-judes-benefit-9714
END:VEVENT

END:VCALENDAR
