BEGIN:VCALENDAR
VERSION:2.0
PRODID:-//ChamberMaster//Event Calendar 2.0//EN
METHOD:PUBLISH
X-PUBLISHED-TTL:P3D
REFRESH-INTERVAL:P3D
CALSCALE:GREGORIAN
BEGIN:VEVENT
DTSTART:20230929T150000Z
DTEND:20230929T190000Z
X-MICROSOFT-CDO-ALLDAYEVENT:FALSE
SUMMARY:Suicide Prevention Fundraiser
DESCRIPTION:Pulled Pork Sandwich Luncheon & Mental Health Tshirt Fundraiser- Delivery available inside Livingston (contact to pre-order)
X-ALT-DESC;FMTTYPE=text/html:Pulled Pork Sandwich Luncheon &amp\; Mental Health Tshirt Fundraiser- Delivery available inside Livingston (contact to pre-order)
LOCATION:3748 US 59 N\, Livingston TX
UID:e.1105.7328
SEQUENCE:3
DTSTAMP:20260425T210246Z
URL:https://business.polkchamber.com/events/details/suicide-prevention-fundraiser-7328
END:VEVENT

END:VCALENDAR
