BEGIN:VCALENDAR
VERSION:2.0
PRODID:-//ChamberMaster//Event Calendar 2.0//EN
METHOD:PUBLISH
X-PUBLISHED-TTL:P3D
REFRESH-INTERVAL:P3D
CALSCALE:GREGORIAN
BEGIN:VEVENT
DTSTART;VALUE=DATE:20231101
DTEND;VALUE=DATE:20240101
TRANSP:TRANSPARENT
X-MICROSOFT-CDO-ALLDAYEVENT:TRUE
SUMMARY:Winter Weekend Cabin Giveaway
DESCRIPTION:All reservations during the registration period- November 1st through December 31st- will give the guest an opportunity to register for a weekend away in a deluxe cabin for FREE! The purchase of an event ticket to any of our live music events will also get the buyer one ticket to be entered into the drawing as well. Contact us for more information.
X-ALT-DESC;FMTTYPE=text/html:All reservations during the registration period- November 1st through December 31st- will give the guest an opportunity to register for a weekend away in a deluxe cabin for FREE! The purchase of an event ticket to any of our live music events will also get the buyer one ticket to be entered into the drawing as well. Contact us for more information.
LOCATION:Two Creeks Crossing Resort 1581 Triple Creek Loop Livingston\, Texas 77351
UID:e.1105.7368
SEQUENCE:3
DTSTAMP:20260425T132617Z
URL:https://business.polkchamber.com/events/details/winter-weekend-cabin-giveaway-7368
END:VEVENT

END:VCALENDAR
